BEGIN:VCALENDAR
VERSION:2.0
PRODID:-//ChamberMaster//Event Calendar 2.0//EN
METHOD:PUBLISH
X-PUBLISHED-TTL:P1H
REFRESH-INTERVAL:P1H
CALSCALE:GREGORIAN
BEGIN:VTIMEZONE
TZID:America/New_York
BEGIN:DAYLIGHT
RRULE:FREQ=YEARLY;BYMONTH=3;BYDAY=2SU
DTSTART:20070101T000000
TZOFFSETFROM:-0500
TZOFFSETTO:-0400
TZNAME:Eastern Daylight Time
END:DAYLIGHT
BEGIN:STANDARD
RRULE:FREQ=YEARLY;BYMONTH=11;BYDAY=1SU
DTSTART:20070101T000000
TZOFFSETFROM:-0400
TZOFFSETTO:-0500
TZNAME:Eastern Standard Time
END:STANDARD
END:VTIMEZONE
BEGIN:VEVENT
DTSTART;TZID=America/New_York:20260507T180000
DTEND;TZID=America/New_York:20260507T210000
X-MICROSOFT-CDO-ALLDAYEVENT:FALSE
SUMMARY:Savor del Mar
DESCRIPTION:Aquarium of Niagara\n\nMark your calendars for an evening at the Aquarium in support of your favorite animals. Savor del Mar returns on Thursday\, May 7th!\nSoak in the Aquarium after-hours with delicious food\, special programming\, an exciting basket raffle\, and more. This night out at the Aquarium is always a favorite of guests so don't miss out!\n\nGeneral Tickets include: After-hours access to the Aquarium's main buildingCurated wine and beerDelicious food stations and signature dessertsAmbassador animal encounters and live animal feedingsBasket raffleAnimal art pullSpecial sea lion showVIP Tickets include:General admission ticketPre-event reception featuring:Exclusive access to the Aquarium's second building\, Great Lakes 360Champagne and light bitesPurchase tickets here
X-ALT-DESC;FMTTYPE=text/html:<!DOCTYPE html><html><head><title></title></head><body aria-disabled="false"><div style="box-sizing: border-box\; font-family: Poppins\, sans-serif\; color: rgb(15\, 32\, 108)\; font-size: 16px\; font-style: normal\; font-variant-ligatures: normal\; font-variant-caps: normal\; font-weight: 400\; letter-spacing: normal\; orphans: 2\; text-align: left\; text-indent: 0px\; text-transform: none\; widows: 2\; word-spacing: 0px\; -webkit-text-stroke-width: 0px\; white-space: normal\; background-color: rgb(255\, 255\, 255)\; text-decoration-thickness: initial\; text-decoration-style: initial\; text-decoration-color: initial\;"><span style="font-family: Arial\, Helvetica\, sans-serif\; color: rgb(0\, 0\, 0)\; font-size: 24px\;"><strong fr-original-style="" style="font-weight: 700\;">Aquarium of Niagara</strong></span><br><br><span style="font-family: Arial\, Helvetica\, sans-serif\; color: rgb(0\, 0\, 0)\; font-size: 14px\;">Mark your calendars for an evening at the Aquarium in support of your favorite animals. Savor del Mar returns on Thursday\, May 7th!</span></div><div style="box-sizing: border-box\; font-family: Poppins\, sans-serif\; color: rgb(15\, 32\, 108)\; font-size: 16px\; font-style: normal\; font-variant-ligatures: normal\; font-variant-caps: normal\; font-weight: 400\; letter-spacing: normal\; orphans: 2\; text-align: left\; text-indent: 0px\; text-transform: none\; widows: 2\; word-spacing: 0px\; -webkit-text-stroke-width: 0px\; white-space: normal\; background-color: rgb(255\, 255\, 255)\; text-decoration-thickness: initial\; text-decoration-style: initial\; text-decoration-color: initial\;"><span style="font-size: 14px\;"><span style="font-family: Arial\,Helvetica\,sans-serif\;"><span style="color: rgb(0\, 0\, 0)\;"><br></span></span></span></div><div style="box-sizing: border-box\; font-family: Poppins\, sans-serif\; color: rgb(15\, 32\, 108)\; font-size: 16px\; font-style: normal\; font-variant-ligatures: normal\; font-variant-caps: normal\; font-weight: 400\; letter-spacing: normal\; orphans: 2\; text-align: left\; text-indent: 0px\; text-transform: none\; widows: 2\; word-spacing: 0px\; -webkit-text-stroke-width: 0px\; white-space: normal\; background-color: rgb(255\, 255\, 255)\; text-decoration-thickness: initial\; text-decoration-style: initial\; text-decoration-color: initial\;"><span style="font-size: 14px\;"><span style="font-family: Arial\,Helvetica\,sans-serif\;"><span style="color: rgb(0\, 0\, 0)\;">Soak in the Aquarium after-hours with delicious food\, special programming\, an exciting basket raffle\, and more. This night out at the Aquarium is always a favorite of guests so don&rsquo\;t miss out!</span></span></span><br><span style="font-size: 14px\;"><span style="font-family: Arial\,Helvetica\,sans-serif\;"><br></span></span></div><p style="box-sizing: border-box\; margin-bottom: 1rem\; margin-top: 0px\; font-family: Poppins\, sans-serif\; color: rgb(15\, 32\, 108)\; font-size: 16px\; font-style: normal\; font-variant-ligatures: normal\; font-variant-caps: normal\; font-weight: 400\; letter-spacing: normal\; orphans: 2\; text-align: left\; text-indent: 0px\; text-transform: none\; widows: 2\; word-spacing: 0px\; -webkit-text-stroke-width: 0px\; white-space: normal\; background-color: rgb(255\, 255\, 255)\; text-decoration-thickness: initial\; text-decoration-style: initial\; text-decoration-color: initial\;"><span style="font-size: 14px\;"><span style="font-family: Arial\,Helvetica\,sans-serif\;"><span style="color: rgb(0\, 0\, 0)\;"><strong fr-original-style="box-sizing: border-box\; font-weight: bolder\;" style="box-sizing: border-box\; font-weight: bolder\;">G</strong><strong fr-original-style="box-sizing: border-box\; font-weight: bolder\;" style="box-sizing: border-box\; font-weight: bolder\;">eneral Tickets include:&nbsp\;</strong></span></span></span></p><ul fr-original-style="box-sizing: border-box\; padding-left: 2rem\; margin-bottom: 1rem\; margin-top: 0px\; color: rgb(15\, 32\, 108)\; font-family: Poppins\, sans-serif\; font-size: 16px\; font-style: normal\; font-variant-ligatures: normal\; font-variant-caps: normal\; font-weight: 400\; letter-spacing: normal\; orphans: 2\; text-align: left\; text-indent: 0px\; text-transform: none\; widows: 2\; word-spacing: 0px\; -webkit-text-stroke-width: 0px\; white-space: normal\; background-color: rgb(255\, 255\, 255)\; text-decoration-thickness: initial\; text-decoration-style: initial\; text-decoration-color: initial\;" style="box-sizing: border-box\; padding-left: 2rem\; margin-bottom: 1rem\; margin-top: 0px\; color: rgb(15\, 32\, 108)\; font-family: Poppins\, sans-serif\; font-size: 16px\; font-style: normal\; font-variant-ligatures: normal\; font-variant-caps: normal\; font-weight: 400\; letter-spacing: normal\; orphans: 2\; text-align: left\; text-indent: 0px\; text-transform: none\; widows: 2\; word-spacing: 0px\; -webkit-text-stroke-width: 0px\; white-space: normal\; background-color: rgb(255\, 255\, 255)\; text-decoration-thickness: initial\; text-decoration-style: initial\; text-decoration-color: initial\; list-style-position: inside\;"><li style="box-sizing: border-box\; font-family: Arial\, Helvetica\, sans-serif\; color: rgb(0\, 0\, 0)\; font-size: 14px\;"><span data-contrast="none" style="box-sizing: border-box\;">After-hours access to the Aquarium&rsquo\;s main building</span></li><li style="box-sizing: border-box\; font-family: Arial\, Helvetica\, sans-serif\; color: rgb(0\, 0\, 0)\; font-size: 14px\;"><span data-contrast="none" style="box-sizing: border-box\;">Curated wine and beer</span></li><li style="box-sizing: border-box\; font-family: Arial\, Helvetica\, sans-serif\; color: rgb(0\, 0\, 0)\; font-size: 14px\;"><span data-contrast="none" style="box-sizing: border-box\;">Delicious food stations</span><span data-ccp-props='{"134233118":false\,"201341983":0\,"335551550":1\,"335551620":1\,"335559739":0\,"335559740":259}' style="box-sizing: border-box\;">&nbsp\;and signature desserts</span></li><li style="box-sizing: border-box\; font-family: Arial\, Helvetica\, sans-serif\; color: rgb(0\, 0\, 0)\; font-size: 14px\;">Ambassador animal encounters and live animal feedings</li><li style="box-sizing: border-box\; font-family: Arial\, Helvetica\, sans-serif\; color: rgb(0\, 0\, 0)\; font-size: 14px\;"><span data-contrast="none" style="box-sizing: border-box\;">Basket raffle</span></li><li style="box-sizing: border-box\; font-family: Arial\, Helvetica\, sans-serif\; color: rgb(0\, 0\, 0)\; font-size: 14px\;">Animal art pull</li><li style="box-sizing: border-box\; font-family: Arial\, Helvetica\, sans-serif\; color: rgb(0\, 0\, 0)\; font-size: 14px\;"><span data-contrast="none" style="box-sizing: border-box\;">Special sea lion show</span></li></ul><p style="box-sizing: border-box\; margin-bottom: 1rem\; margin-top: 0px\; font-family: Poppins\, sans-serif\; color: rgb(15\, 32\, 108)\; font-size: 16px\; font-style: normal\; font-variant-ligatures: normal\; font-variant-caps: normal\; font-weight: 400\; letter-spacing: normal\; orphans: 2\; text-align: left\; text-indent: 0px\; text-transform: none\; widows: 2\; word-spacing: 0px\; -webkit-text-stroke-width: 0px\; white-space: normal\; background-color: rgb(255\, 255\, 255)\; text-decoration-thickness: initial\; text-decoration-style: initial\; text-decoration-color: initial\;"><span style="font-size: 14px\;"><span style="font-family: Arial\,Helvetica\,sans-serif\;"><span style="color: rgb(0\, 0\, 0)\;"><strong fr-original-style="box-sizing: border-box\; font-weight: bolder\;" style="box-sizing: border-box\; font-weight: bolder\;">VIP Tickets include:</strong></span></span></span></p><ul fr-original-style="box-sizing: border-box\; padding-left: 2rem\; margin-bottom: 1rem\; margin-top: 0px\; color: rgb(15\, 32\, 108)\; font-family: Poppins\, sans-serif\; font-size: 16px\; font-style: normal\; font-variant-ligatures: normal\; font-variant-caps: normal\; font-weight: 400\; letter-spacing: normal\; orphans: 2\; text-align: left\; text-indent: 0px\; text-transform: none\; widows: 2\; word-spacing: 0px\; -webkit-text-stroke-width: 0px\; white-space: normal\; background-color: rgb(255\, 255\, 255)\; text-decoration-thickness: initial\; text-decoration-style: initial\; text-decoration-color: initial\;" style="box-sizing: border-box\; padding-left: 2rem\; margin-bottom: 1rem\; margin-top: 0px\; color: rgb(15\, 32\, 108)\; font-family: Poppins\, sans-serif\; font-size: 16px\; font-style: normal\; font-variant-ligatures: normal\; font-variant-caps: normal\; font-weight: 400\; letter-spacing: normal\; orphans: 2\; text-align: left\; text-indent: 0px\; text-transform: none\; widows: 2\; word-spacing: 0px\; -webkit-text-stroke-width: 0px\; white-space: normal\; background-color: rgb(255\, 255\, 255)\; text-decoration-thickness: initial\; text-decoration-style: initial\; text-decoration-color: initial\; list-style-position: inside\;"><li style="box-sizing: border-box\; font-family: Arial\, Helvetica\, sans-serif\; color: rgb(0\, 0\, 0)\; font-size: 14px\;">General admission ticket</li><li style="box-sizing: border-box\; font-family: Arial\, Helvetica\, sans-serif\; color: rgb(0\, 0\, 0)\; font-size: 14px\;">Pre-event reception featuring:<ul fr-original-style="box-sizing: border-box\; padding-left: 2rem\; margin-bottom: 0px\; margin-top: 0px\; font-family: initial\; color: initial\; font-size: initial\;" style="box-sizing: border-box\; padding-left: 2rem\; margin-bottom: 0px\; margin-top: 0px\; font-family: initial\; color: initial\; font-size: initial\; list-style-position: inside\;"><li style="box-sizing: border-box\; font-family: Arial\, Helvetica\, sans-serif\; color: rgb(0\, 0\, 0)\; font-size: 14px\;">Exclusive access to the Aquarium&rsquo\;s second building\, Great Lakes 360</li><li style="box-sizing: border-box\; font-family: Arial\, Helvetica\, sans-serif\; color: rgb(0\, 0\, 0)\; font-size: 14px\;">Champagne and light bites</li></ul></li></ul><p><span style="font-family: Arial\, Helvetica\, sans-serif\; font-size: 14px\;">Purchase tickets&nbsp\;</span><a fr-original-style="" href="https://my.onecause.com/event/organizations/9500c7ea-c69a-4495-85d4-15e8568e26fe/events/vevt:653a8cec-f412-44da-8b00-bc1e06839af6/home/story" rel="noopener noreferrer" style="user-select: auto\;" target="_blank"><strong fr-original-style="" style="font-weight: 700\;"><span style="font-family: Arial\, Helvetica\, sans-serif\; font-size: 14px\;">here</span></strong></a></p></body></html>
LOCATION:701 Whirlpool Street Niagara Falls NY 14301
UID:e.2793.1442959
SEQUENCE:3
DTSTAMP:20260422T141715Z
URL:https://members.thepartnership.org/bn-360/Details/savor-del-mar-1709048?sourceTypeId=Hub
END:VEVENT
END:VCALENDAR
